BEGIN:VCALENDAR
VERSION:2.0
PRODID:-//Ashlands Primary School - ECPv6.15.17.1//NONSGML v1.0//EN
CALSCALE:GREGORIAN
METHOD:PUBLISH
X-WR-CALNAME:Ashlands Primary School
X-ORIGINAL-URL:https://www.ashlandsprimary.org.uk
X-WR-CALDESC:Events for Ashlands Primary School
REFRESH-INTERVAL;VALUE=DURATION:PT1H
X-Robots-Tag:noindex
X-PUBLISHED-TTL:PT1H
BEGIN:VTIMEZONE
TZID:UTC
BEGIN:STANDARD
TZOFFSETFROM:+0000
TZOFFSETTO:+0000
TZNAME:UTC
DTSTART:20230101T000000
END:STANDARD
END:VTIMEZONE
BEGIN:VEVENT
DTSTART;TZID=UTC:20240903T085500
DTEND;TZID=UTC:20240903T153000
DTSTAMP:20260420T080327
CREATED:20240710T132307Z
LAST-MODIFIED:20240710T132310Z
UID:7653-1725353700-1725377400@www.ashlandsprimary.org.uk
SUMMARY:School Re-Opens
DESCRIPTION:
URL:https://www.ashlandsprimary.org.uk/event/school-re-opens/
END:VEVENT
BEGIN:VEVENT
DTSTART;TZID=UTC:20240904T090000
DTEND;TZID=UTC:20240904T100000
DTSTAMP:20260420T080327
CREATED:20240710T134131Z
LAST-MODIFIED:20240710T134134Z
UID:7664-1725440400-1725444000@www.ashlandsprimary.org.uk
SUMMARY:New Reception Parents - Teas and Coffees in the school hall
DESCRIPTION:
URL:https://www.ashlandsprimary.org.uk/event/new-reception-parents-teas-and-coffees-in-the-school-hall/
END:VEVENT
BEGIN:VEVENT
DTSTART;TZID=UTC:20240904T090000
DTEND;TZID=UTC:20240904T153000
DTSTAMP:20260420T080327
CREATED:20240710T133501Z
LAST-MODIFIED:20240710T133705Z
UID:7655-1725440400-1725463800@www.ashlandsprimary.org.uk
SUMMARY:Bikeability Year 6  Level 2
DESCRIPTION:
URL:https://www.ashlandsprimary.org.uk/event/bikeability-level-2-year-6/
END:VEVENT
BEGIN:VEVENT
DTSTART;TZID=UTC:20240905T090000
DTEND;TZID=UTC:20240905T153000
DTSTAMP:20260420T080327
CREATED:20240710T133536Z
LAST-MODIFIED:20240710T133537Z
UID:7657-1725526800-1725550200@www.ashlandsprimary.org.uk
SUMMARY:Bikeability Year 6 Level 2
DESCRIPTION:
URL:https://www.ashlandsprimary.org.uk/event/bikeability-year-6-level-2/
END:VEVENT
BEGIN:VEVENT
DTSTART;TZID=UTC:20240906T090000
DTEND;TZID=UTC:20240906T153000
DTSTAMP:20260420T080327
CREATED:20240710T133609Z
LAST-MODIFIED:20240710T133611Z
UID:7659-1725613200-1725636600@www.ashlandsprimary.org.uk
SUMMARY:Bikeability Year 6 Level 2
DESCRIPTION:
URL:https://www.ashlandsprimary.org.uk/event/bikeability-year-6-level-2-2/
END:VEVENT
BEGIN:VEVENT
DTSTART;TZID=UTC:20240910T193000
DTEND;TZID=UTC:20240910T210000
DTSTAMP:20260420T080327
CREATED:20240905T130545Z
LAST-MODIFIED:20240905T130548Z
UID:7768-1725996600-1726002000@www.ashlandsprimary.org.uk
SUMMARY:Friends of Ashlands meeting (PTA) The Black Hat\, Ilkley - All welcome
DESCRIPTION:
URL:https://www.ashlandsprimary.org.uk/event/friends-of-ashlands-meeting-pta-the-black-hat-ilkley-all-welcome/
END:VEVENT
BEGIN:VEVENT
DTSTART;TZID=UTC:20240911T154000
DTEND;TZID=UTC:20240911T163000
DTSTAMP:20260420T080327
CREATED:20240905T130646Z
LAST-MODIFIED:20240905T130648Z
UID:7770-1726069200-1726072200@www.ashlandsprimary.org.uk
SUMMARY:Year 1 - Parents invited to visit the classroom
DESCRIPTION:
URL:https://www.ashlandsprimary.org.uk/event/year-1-parents-invited-to-visit-the-classroom/
END:VEVENT
BEGIN:VEVENT
DTSTART;TZID=UTC:20240911T173000
DTEND;TZID=UTC:20240911T183000
DTSTAMP:20260420T080327
CREATED:20240905T130737Z
LAST-MODIFIED:20240905T130742Z
UID:7772-1726075800-1726079400@www.ashlandsprimary.org.uk
SUMMARY:Little Acorns - Parents Information Evening
DESCRIPTION:
URL:https://www.ashlandsprimary.org.uk/event/little-acorns-parents-information-evening/
END:VEVENT
BEGIN:VEVENT
DTSTART;TZID=UTC:20240913T085500
DTEND;TZID=UTC:20240913T093000
DTSTAMP:20260420T080327
CREATED:20240905T130821Z
LAST-MODIFIED:20240905T132534Z
UID:7774-1726217700-1726219800@www.ashlandsprimary.org.uk
SUMMARY:Class 3 Maple Swimming
DESCRIPTION:
URL:https://www.ashlandsprimary.org.uk/event/class-3-maple-swimming/
END:VEVENT
BEGIN:VEVENT
DTSTART;TZID=UTC:20240916T090000
DTEND;TZID=UTC:20240916T120000
DTSTAMP:20260420T080327
CREATED:20240710T133920Z
LAST-MODIFIED:20240710T133923Z
UID:7662-1726477200-1726488000@www.ashlandsprimary.org.uk
SUMMARY:School Nursing Team - Flu Nasel Spray - Reception to Year 6
DESCRIPTION:
URL:https://www.ashlandsprimary.org.uk/event/school-nursing-team-flu-nasel-spray-reception-to-year-6/
END:VEVENT
BEGIN:VEVENT
DTSTART;TZID=UTC:20240920T085500
DTEND;TZID=UTC:20240920T093000
DTSTAMP:20260420T080327
CREATED:20240905T130942Z
LAST-MODIFIED:20240905T131937Z
UID:7778-1726822500-1726824600@www.ashlandsprimary.org.uk
SUMMARY:Class 3 Maple Swimming
DESCRIPTION:
URL:https://www.ashlandsprimary.org.uk/event/class-3-maple-swimming-2/
END:VEVENT
BEGIN:VEVENT
DTSTART;TZID=UTC:20240927T085500
DTEND;TZID=UTC:20240927T093000
DTSTAMP:20260420T080327
CREATED:20240905T131054Z
LAST-MODIFIED:20240905T131736Z
UID:7782-1727427300-1727429400@www.ashlandsprimary.org.uk
SUMMARY:Class 3 Maple Swimming
DESCRIPTION:
URL:https://www.ashlandsprimary.org.uk/event/class-3-maple-swimming-3/
END:VEVENT
BEGIN:VEVENT
DTSTART;TZID=UTC:20240929T100000
DTEND;TZID=UTC:20240929T110000
DTSTAMP:20260420T080327
CREATED:20240919T130852Z
LAST-MODIFIED:20240919T130854Z
UID:7891-1727604000-1727607600@www.ashlandsprimary.org.uk
SUMMARY:Welcome to Ashlands river walk - The Riverside Hotel
DESCRIPTION:
URL:https://www.ashlandsprimary.org.uk/event/welcome-to-ashlands-river-walk-the-riverside-hotel/
END:VEVENT
END:VCALENDAR