BEGIN:VCALENDAR
VERSION:2.0
PRODID:-//Ashlands Primary School - ECPv6.15.17.1//NONSGML v1.0//EN
CALSCALE:GREGORIAN
METHOD:PUBLISH
X-WR-CALNAME:Ashlands Primary School
X-ORIGINAL-URL:https://www.ashlandsprimary.org.uk
X-WR-CALDESC:Events for Ashlands Primary School
REFRESH-INTERVAL;VALUE=DURATION:PT1H
X-Robots-Tag:noindex
X-PUBLISHED-TTL:PT1H
BEGIN:VTIMEZONE
TZID:UTC
BEGIN:STANDARD
TZOFFSETFROM:+0000
TZOFFSETTO:+0000
TZNAME:UTC
DTSTART:20230101T000000
END:STANDARD
END:VTIMEZONE
BEGIN:VEVENT
DTSTART;TZID=UTC:20241004T085500
DTEND;TZID=UTC:20241004T093000
DTSTAMP:20260420T063737
CREATED:20240905T131213Z
LAST-MODIFIED:20240905T131704Z
UID:7786-1728032100-1728034200@www.ashlandsprimary.org.uk
SUMMARY:Class 3 Maple Swimming
DESCRIPTION:
URL:https://www.ashlandsprimary.org.uk/event/class-3-maple-swimming-4/
END:VEVENT
BEGIN:VEVENT
DTSTART;TZID=UTC:20241005T090000
DTEND;TZID=UTC:20241005T120000
DTSTAMP:20260420T063737
CREATED:20240905T131316Z
LAST-MODIFIED:20240905T131318Z
UID:7788-1728118800-1728129600@www.ashlandsprimary.org.uk
SUMMARY:Westville House Cross Country - Ilkley Rugby Club
DESCRIPTION:
URL:https://www.ashlandsprimary.org.uk/event/westville-house-cross-country-ilkley-rugby-club/
END:VEVENT
BEGIN:VEVENT
DTSTART;TZID=UTC:20241009T090000
DTEND;TZID=UTC:20241011T153000
DTSTAMP:20260420T063737
CREATED:20240710T134245Z
LAST-MODIFIED:20240710T134247Z
UID:7666-1728464400-1728660600@www.ashlandsprimary.org.uk
SUMMARY:Year 6 Residential
DESCRIPTION:
URL:https://www.ashlandsprimary.org.uk/event/year-6-residential-2/
END:VEVENT
BEGIN:VEVENT
DTSTART;TZID=UTC:20241011T085500
DTEND;TZID=UTC:20241011T093000
DTSTAMP:20260420T063737
CREATED:20240905T131502Z
LAST-MODIFIED:20240905T131632Z
UID:7792-1728636900-1728639000@www.ashlandsprimary.org.uk
SUMMARY:Class 3 Maple Swimming
DESCRIPTION:
URL:https://www.ashlandsprimary.org.uk/event/class-3-maple-swimming-5/
END:VEVENT
BEGIN:VEVENT
DTSTART;TZID=UTC:20241014T090000
DTEND;TZID=UTC:20241014T120000
DTSTAMP:20260420T063737
CREATED:20240913T134516Z
LAST-MODIFIED:20240913T134517Z
UID:7870-1728896400-1728907200@www.ashlandsprimary.org.uk
SUMMARY:Individual and Sibling Photos
DESCRIPTION:
URL:https://www.ashlandsprimary.org.uk/event/individual-and-sibling-photos/
END:VEVENT
BEGIN:VEVENT
DTSTART;TZID=UTC:20241015T090000
DTEND;TZID=UTC:20241015T120000
DTSTAMP:20260420T063737
CREATED:20240913T134554Z
LAST-MODIFIED:20240913T134556Z
UID:7872-1728982800-1728993600@www.ashlandsprimary.org.uk
SUMMARY:Individual and Sibling Photos
DESCRIPTION:
URL:https://www.ashlandsprimary.org.uk/event/individual-and-sibling-photos-2/
END:VEVENT
BEGIN:VEVENT
DTSTART;TZID=UTC:20241016T160000
DTEND;TZID=UTC:20241016T190000
DTSTAMP:20260420T063737
CREATED:20240927T135904Z
LAST-MODIFIED:20240927T135905Z
UID:8096-1729094400-1729105200@www.ashlandsprimary.org.uk
SUMMARY:Parents Evening
DESCRIPTION:
URL:https://www.ashlandsprimary.org.uk/event/parents-evening-6/
END:VEVENT
BEGIN:VEVENT
DTSTART;TZID=UTC:20241018T085500
DTEND;TZID=UTC:20241018T093000
DTSTAMP:20260420T063737
CREATED:20240905T133406Z
LAST-MODIFIED:20240905T133406Z
UID:7796-1729241700-1729243800@www.ashlandsprimary.org.uk
SUMMARY:Class 3 Maple Swimming
DESCRIPTION:
URL:https://www.ashlandsprimary.org.uk/event/class-3-maple-swimming-6/
END:VEVENT
BEGIN:VEVENT
DTSTART;TZID=UTC:20241022T090000
DTEND;TZID=UTC:20241022T153000
DTSTAMP:20260420T063737
CREATED:20240919T130732Z
LAST-MODIFIED:20240919T130734Z
UID:7889-1729587600-1729611000@www.ashlandsprimary.org.uk
SUMMARY:Year 3 Trip to Stump Cross Caverns
DESCRIPTION:
URL:https://www.ashlandsprimary.org.uk/event/year-3-trip-to-stump-cross-caverns/
END:VEVENT
BEGIN:VEVENT
DTSTART;TZID=UTC:20241023T160000
DTEND;TZID=UTC:20241023T190000
DTSTAMP:20260420T063737
CREATED:20240927T135935Z
LAST-MODIFIED:20240927T135937Z
UID:8098-1729699200-1729710000@www.ashlandsprimary.org.uk
SUMMARY:Parents Evening
DESCRIPTION:
URL:https://www.ashlandsprimary.org.uk/event/parents-evening-7/
END:VEVENT
BEGIN:VEVENT
DTSTART;TZID=UTC:20241025T085500
DTEND;TZID=UTC:20241025T093000
DTSTAMP:20260420T063737
CREATED:20240905T133451Z
LAST-MODIFIED:20240905T133454Z
UID:7798-1729846500-1729848600@www.ashlandsprimary.org.uk
SUMMARY:Class 3 Maple Swimming
DESCRIPTION:
URL:https://www.ashlandsprimary.org.uk/event/class-3-maple-swimming-7/
END:VEVENT
BEGIN:VEVENT
DTSTART;TZID=UTC:20241025T090000
DTEND;TZID=UTC:20241025T153000
DTSTAMP:20260420T063737
CREATED:20240925T125005Z
LAST-MODIFIED:20240925T125007Z
UID:7958-1729846800-1729870200@www.ashlandsprimary.org.uk
SUMMARY:Halloween Dress Up and Bake Sale
DESCRIPTION:
URL:https://www.ashlandsprimary.org.uk/event/halloween-dress-up-and-bake-sale/
END:VEVENT
BEGIN:VEVENT
DTSTART;TZID=UTC:20241025T153000
DTEND;TZID=UTC:20241025T153000
DTSTAMP:20260420T063737
CREATED:20240905T133609Z
LAST-MODIFIED:20240905T133611Z
UID:7800-1729870200-1729870200@www.ashlandsprimary.org.uk
SUMMARY:Break Up
DESCRIPTION:
URL:https://www.ashlandsprimary.org.uk/event/break-up-15/
END:VEVENT
END:VCALENDAR