BEGIN:VCALENDAR
VERSION:2.0
PRODID:-//Ashlands Primary School - ECPv6.15.17.1//NONSGML v1.0//EN
CALSCALE:GREGORIAN
METHOD:PUBLISH
X-WR-CALNAME:Ashlands Primary School
X-ORIGINAL-URL:https://www.ashlandsprimary.org.uk
X-WR-CALDESC:Events for Ashlands Primary School
REFRESH-INTERVAL;VALUE=DURATION:PT1H
X-Robots-Tag:noindex
X-PUBLISHED-TTL:PT1H
BEGIN:VTIMEZONE
TZID:UTC
BEGIN:STANDARD
TZOFFSETFROM:+0000
TZOFFSETTO:+0000
TZNAME:UTC
DTSTART:20240101T000000
END:STANDARD
END:VTIMEZONE
BEGIN:VEVENT
DTSTART;VALUE=DATE:20250902
DTEND;VALUE=DATE:20250903
DTSTAMP:20260419T151137
CREATED:20241118T145615Z
LAST-MODIFIED:20241118T145619Z
UID:8518-1756771200-1756857599@www.ashlandsprimary.org.uk
SUMMARY:Return to school
DESCRIPTION:
URL:https://www.ashlandsprimary.org.uk/event/return-to-school-12/
END:VEVENT
BEGIN:VEVENT
DTSTART;TZID=UTC:20250922T090000
DTEND;TZID=UTC:20250926T153000
DTSTAMP:20260419T151137
CREATED:20250912T092207Z
LAST-MODIFIED:20250912T092211Z
UID:9872-1758531600-1758900600@www.ashlandsprimary.org.uk
SUMMARY:Year 6 Bikeability
DESCRIPTION:
URL:https://www.ashlandsprimary.org.uk/event/year-6-bikeability-4/
END:VEVENT
BEGIN:VEVENT
DTSTART;TZID=UTC:20250930T090000
DTEND;TZID=UTC:20250930T153000
DTSTAMP:20260419T151137
CREATED:20250912T092249Z
LAST-MODIFIED:20250912T092252Z
UID:9874-1759222800-1759246200@www.ashlandsprimary.org.uk
SUMMARY:Individual and Sibling Photos
DESCRIPTION:
URL:https://www.ashlandsprimary.org.uk/event/individual-and-sibling-photos-3/
END:VEVENT
END:VCALENDAR